BEGIN:VCALENDAR
VERSION:2.0
PRODID:-//www.admidio.org//Admidio4.3.17//DE
CALSCALE:GREGORIAN
METHOD:PUBLISH
X-WR-TIMEZONE:Europe/Berlin
BEGIN:VTIMEZONE
TZID:Europe/Berlin
X-LIC-LOCATION:Europe/Berlin
BEGIN:STANDARD
DTSTART:19701025T030000
TZOFFSETFROM:+0200
TZOFFSETTO:+0100
TZNAME:CET
RRULE:FREQ=YEARLY;BYDAY=-1SU;BYMONTH=10
END:STANDARD
BEGIN:DAYLIGHT
DTSTART:19700329T020000
TZOFFSETFROM:+0100
TZOFFSETTO:+0200
TZNAME:CEST
RRULE:FREQ=YEARLY;BYDAY=-1SU;BYMONTH=3
END:DAYLIGHT
END:VTIMEZONE
BEGIN:VEVENT
CREATED:20250601T215829
LAST-MODIFIED:20250601T215829
UID:20250601T215829+397@meldebogen.hfbhk.de
SUMMARY:Inoffzielle Eröffnung Bergstadtfest in Kita Bergstadtzwerge
DESCRIPTION:Die Kita "Bergstadtzwerge" feiert in diesem Jahr 62. Geburtstag und ihr 37. "Bergstadtfest" in der Einrichtung.\n\nWir wollen uns auch in diesem Jahr an der inoffiziellen Eröffnung des Bergstadtfestes mit 4 Uniform- bzw. Trachtenträgern beteiligen.\n\nTreffpunkt ist 14.30 Uhr an der Kita Schillerstraße 15 in Freiberg.\n\nAchtung: Unfälle und Vorkommnisse sind unverzüglich dem 1. Geschäftsführer zu melden. Dies erfolgt schriftlich an verein@hfbhk.de\n
DTSTAMP:20260420T102544
LOCATION:Freiberg
DTSTART;TZID=Europe/Berlin:20250626T143000
DTEND;TZID=Europe/Berlin:20250626T160000
END:VEVENT
END:VCALENDAR