BEGIN:VCALENDAR
VERSION:2.0
PRODID:-//www.admidio.org//Admidio4.3.17//DE
CALSCALE:GREGORIAN
METHOD:PUBLISH
X-WR-TIMEZONE:Europe/Berlin
BEGIN:VTIMEZONE
TZID:Europe/Berlin
X-LIC-LOCATION:Europe/Berlin
BEGIN:STANDARD
DTSTART:19701025T030000
TZOFFSETFROM:+0200
TZOFFSETTO:+0100
TZNAME:CET
RRULE:FREQ=YEARLY;BYDAY=-1SU;BYMONTH=10
END:STANDARD
BEGIN:DAYLIGHT
DTSTART:19700329T020000
TZOFFSETFROM:+0100
TZOFFSETTO:+0200
TZNAME:CEST
RRULE:FREQ=YEARLY;BYDAY=-1SU;BYMONTH=3
END:DAYLIGHT
END:VTIMEZONE
BEGIN:VEVENT
CREATED:20260419T152458
LAST-MODIFIED:20260419T154007
UID:20260419T152458+367@meldebogen.hfbhk.de
SUMMARY:Gewerke der Bergschmiede: 4. Befahrung "Reiche Zeche"\, Besucherbergwerk
DESCRIPTION:Veranstaltung: Gewerke der Bergschmiede und Freunde der Bergschmiede\n\n \n\nVeranstaltungsort: "Reiche Zeche"\, Freiberg\n\nanschließend gemeinsames Mittagessen in der Gaststätte "Zur Erholung"\n\n \n\n \n\n \n
DTSTAMP:20260420T044313
LOCATION:"Reiche Zeche" Freiberg
DTSTART;TZID=Europe/Berlin:20260509T080000
DTEND;TZID=Europe/Berlin:20260509T133000
END:VEVENT
END:VCALENDAR