BEGIN:VCALENDAR
VERSION:2.0
PRODID:-//www.admidio.org//Admidio4.3.17//DE
CALSCALE:GREGORIAN
METHOD:PUBLISH
X-WR-TIMEZONE:Europe/Berlin
BEGIN:VTIMEZONE
TZID:Europe/Berlin
X-LIC-LOCATION:Europe/Berlin
BEGIN:STANDARD
DTSTART:19701025T030000
TZOFFSETFROM:+0200
TZOFFSETTO:+0100
TZNAME:CET
RRULE:FREQ=YEARLY;BYDAY=-1SU;BYMONTH=10
END:STANDARD
BEGIN:DAYLIGHT
DTSTART:19700329T020000
TZOFFSETFROM:+0100
TZOFFSETTO:+0200
TZNAME:CEST
RRULE:FREQ=YEARLY;BYDAY=-1SU;BYMONTH=3
END:DAYLIGHT
END:VTIMEZONE
BEGIN:VEVENT
CREATED:20240902T193719
LAST-MODIFIED:20240911T183742
UID:20240902T193719+465@meldebogen.hfbhk.de
SUMMARY:Gruppenbild & Marschprobe
DESCRIPTION:Liebe Berg- und Hüttenleute\,\n\nliebe Frauen\, Fördermitglieder und Kinder\,\n\nam 12.09.2024 findet ein wichtiger Termin für alle Uniformträger\, Fördermitglieder (nach Möglichkeit in Schacht- oder Hüttenkittel) sowie Kinder und Frauen in Tracht statt:\n\n\n• Gruppenbild:\n\nWir treffen uns um 17:30 Uhr auf dem Schloßplatz in Freiberg zur Aufnahme eines Gruppenbildes aller Mitglieder. Anschließend wollen wir noch weitere Gruppenbilder (u.a. Fachgruppe Kinder & Jugend\, nur Uniformträger u.w.). Bitte erscheint pünktlich und in vollständiger Uniform (inkl. Geleucht und Gezähe)\, in Schacht- oder Hüttenkittel sowie in Tracht.\n\nBitte sorgt dafür das eure Uniform in einem einwandfreien Zustand ist\, d.h. Hosen\, Schürzen und Schweißtücher sollten gebügelt sein!\n\n\n• Marschprobe:\n\nIm Anschluss daran findet von 19:00 Uhr bis ca. 20:00 Uhr eine Marschprobe mit dem Bergmusikkorps Saxonia Freiberg an der Sportanlage „Ulrich Rülein von Calw“ (akademische Kampfbahn) statt.\n\nFür das leibliche Wohl ist gesorgt - es wird Bergbier und einen Imbiss geben. Wir freuen uns auf eure zahlreiche Teilnahme.\n\nGlück Auf \n
DTSTAMP:20260423T143744
LOCATION:Schloßplatz I Sportplatz Ulrich Rülein von Calw (AKA)
DTSTART;TZID=Europe/Berlin:20240912T173000
DTEND;TZID=Europe/Berlin:20240912T200000
END:VEVENT
END:VCALENDAR