BEGIN:VCALENDAR
VERSION:2.0
PRODID:-//www.admidio.org//Admidio4.3.17//DE
CALSCALE:GREGORIAN
METHOD:PUBLISH
X-WR-TIMEZONE:Europe/Berlin
BEGIN:VTIMEZONE
TZID:Europe/Berlin
X-LIC-LOCATION:Europe/Berlin
BEGIN:STANDARD
DTSTART:19701025T030000
TZOFFSETFROM:+0200
TZOFFSETTO:+0100
TZNAME:CET
RRULE:FREQ=YEARLY;BYDAY=-1SU;BYMONTH=10
END:STANDARD
BEGIN:DAYLIGHT
DTSTART:19700329T020000
TZOFFSETFROM:+0100
TZOFFSETTO:+0200
TZNAME:CEST
RRULE:FREQ=YEARLY;BYDAY=-1SU;BYMONTH=3
END:DAYLIGHT
END:VTIMEZONE
BEGIN:VEVENT
CREATED:20240123T090107
LAST-MODIFIED:20240123T090107
UID:20240123T090107+465@meldebogen.hfbhk.de
SUMMARY:Bergparade des SLV in Aue
DESCRIPTION:\n	\n		\n			Verantwortlicher:  \n			Siegbert Kranz\n		\n		\n			 \n			 \n		\n		\n			Abfahrt in Freiberg:\n			14.30 Uhr\n			Rückfahrt:\n			gegen 19 Uhr\n		\n		\n			Transportmittel: \n			Bus\n			Transportfirma:\n			 \n		\n		\n			Stellplatz vor Ort: \n			16.45 Uhr\n		\n		\n			Beginn der Veranstaltung: \n			17:00 Uhr\n		\n		\n			Fahnen / Standarte: \n			Standarte + Hüttenfahne\n		\n		\n			Kammeröffnung: \n			keine\n		\n		\n			\n			Besonderheiten:\n			\n			\n			Maximal 30 Vereinsmitglieder in Uniform können teilnehmen.\n			\n		\n	\n\n\n \n\n \n\n \n\n \n\n \n\n \n\n \n\nAchtung: Unfälle und Vorkommnisse sind unverzüglich dem 1. Geschäftsführer zu melden. Dies erfolgt schriftlich an verein@hfbhk.de.\n
DTSTAMP:20260423T035204
LOCATION:Aue\, Aue-Bad Schlema
DTSTART;TZID=Europe/Berlin:20241201T143000
DTEND;TZID=Europe/Berlin:20241201T210000
END:VEVENT
END:VCALENDAR