BEGIN:VCALENDAR
VERSION:2.0
PRODID:-//www.admidio.org//Admidio4.3.17//DE
CALSCALE:GREGORIAN
METHOD:PUBLISH
X-WR-TIMEZONE:Europe/Berlin
BEGIN:VTIMEZONE
TZID:Europe/Berlin
X-LIC-LOCATION:Europe/Berlin
BEGIN:STANDARD
DTSTART:19701025T030000
TZOFFSETFROM:+0200
TZOFFSETTO:+0100
TZNAME:CET
RRULE:FREQ=YEARLY;BYDAY=-1SU;BYMONTH=10
END:STANDARD
BEGIN:DAYLIGHT
DTSTART:19700329T020000
TZOFFSETFROM:+0100
TZOFFSETTO:+0200
TZNAME:CEST
RRULE:FREQ=YEARLY;BYDAY=-1SU;BYMONTH=3
END:DAYLIGHT
END:VTIMEZONE
BEGIN:VEVENT
CREATED:20260124T140243
LAST-MODIFIED:20260421T223330
UID:20260124T140243+3@meldebogen.hfbhk.de
SUMMARY:30. Vereinswandertag der HFBHK e.V.:
DESCRIPTION:Wie in den vergangenen Jahren lädt der Verein auch 2026 zur Muttertagswanderung ein.\n\nIn unserem Jubiläumsjahr ist das Ziel unserer Wanderung Halsbrücke.\n\nTreffen ist an diesem Tag um 9:20 Uhr die Erzwäsche in Halsbrücke\, Krummenhennersdorfer Straße 3. Dort beginnt unsere Wanderung 9:30 Uhr. Die Wanderung erfolgt links und rechts der Freiberger Mulde. Wir besuchen die Hohe Esse\, die Hütte Halsbrücke\, das 7. und 8. Lichtloch\, das Kahnhebehaus\, den Johannisberg\, den Sand und Teile der Ortslage in der Nähe der Mulde. Wir habe zirka 3 h Stunden für die Wanderung eingeplant. Das Ende der Wanderung ist wieder die Erzwäsche. Dort erwartet die Wanderteilnehmer ein Tscherper zur Stärkung.\n\nWanderleiter an diesem Tag sind Christian Schmiedgen\, Katrin Fleischer und unser Vorsitzender Heiko Götze.\n\nWanderfreunde\, denen die Strecke zu schwierig erscheint\, sollten sich beim Vorstand melden.\n\nBitte bildet nach Halsbrücke Fahrgemeinschaften mit dem PKW und nutzt die öffentlichen Parkmöglichkeiten in der Nähe des Treffpunktes. Ihr könnt natürlich mit dem Fahrrad auch von Freiberg aus den Radweg (ehemalige Bahnlinie) nehmen. \n
DTSTAMP:20260422T102051
LOCATION:Halsbrücke
DTSTART;TZID=Europe/Berlin:20260510T093000
DTEND;TZID=Europe/Berlin:20260510T123000
END:VEVENT
END:VCALENDAR