BEGIN:VCALENDAR
VERSION:2.0
PRODID:-//www.admidio.org//Admidio4.3.17//DE
CALSCALE:GREGORIAN
METHOD:PUBLISH
X-WR-TIMEZONE:Europe/Berlin
BEGIN:VTIMEZONE
TZID:Europe/Berlin
X-LIC-LOCATION:Europe/Berlin
BEGIN:STANDARD
DTSTART:19701025T030000
TZOFFSETFROM:+0200
TZOFFSETTO:+0100
TZNAME:CET
RRULE:FREQ=YEARLY;BYDAY=-1SU;BYMONTH=10
END:STANDARD
BEGIN:DAYLIGHT
DTSTART:19700329T020000
TZOFFSETFROM:+0100
TZOFFSETTO:+0200
TZNAME:CEST
RRULE:FREQ=YEARLY;BYDAY=-1SU;BYMONTH=3
END:DAYLIGHT
END:VTIMEZONE
BEGIN:VEVENT
CREATED:20251229T154706
LAST-MODIFIED:20251229T154706
UID:20251229T154706+3@meldebogen.hfbhk.de
SUMMARY:Stammtisch
DESCRIPTION:Liebe Mitglieder\,\n\nwie gewohnt findet am ersten Montag im Monat der Stammtisch in der Knappenstube statt. Alle Mitglieder sind herzlich eingeladen.\n\nBitte meldet euch an\, wenn ihr am Stammtisch teilnehmen werdet. Dies erleichtert uns die Planung.\nVielen Dank!\n\nDer Vorstand\n
DTSTAMP:20260425T164245
LOCATION:Chemnitzer Straße 8 / Saxonia Freiberg Stiftung
DTSTART;TZID=Europe/Berlin:20260504T180000
DTEND;TZID=Europe/Berlin:20260504T210000
END:VEVENT
END:VCALENDAR