BEGIN:VCALENDAR
VERSION:2.0
PRODID:-//www.admidio.org//Admidio4.3.17//DE
CALSCALE:GREGORIAN
METHOD:PUBLISH
X-WR-TIMEZONE:Europe/Berlin
BEGIN:VTIMEZONE
TZID:Europe/Berlin
X-LIC-LOCATION:Europe/Berlin
BEGIN:STANDARD
DTSTART:19701025T030000
TZOFFSETFROM:+0200
TZOFFSETTO:+0100
TZNAME:CET
RRULE:FREQ=YEARLY;BYDAY=-1SU;BYMONTH=10
END:STANDARD
BEGIN:DAYLIGHT
DTSTART:19700329T020000
TZOFFSETFROM:+0100
TZOFFSETTO:+0200
TZNAME:CEST
RRULE:FREQ=YEARLY;BYDAY=-1SU;BYMONTH=3
END:DAYLIGHT
END:VTIMEZONE
BEGIN:VEVENT
CREATED:20240131T090644
LAST-MODIFIED:20240131T090644
UID:20240131T090644+397@meldebogen.hfbhk.de
SUMMARY:Abschlussparade Welterbeentdecker 2024 in Freiberg
DESCRIPTION:Verantwortlicher:     Heiko Götze\n\nAn diesem Tag soll eine Abschlussparade der Welterbe-Entdecker -fast 400 Vorschüler aus allen 24 Kindertagesstätten- das Projekt abschließen. \n\nBerg- und Hüttenleute begleiten die Kindergartengruppen vom Schloßplatz mit einer Parade durch die Stadt zum Obermarkt. Es werden mindestens 25 Uniformträger benötigt.\n\nZum Abschluss wird der "Steiger" gesungen. Bitte kein Geleucht mitbringen.\n\nAchtung: Unfälle und Vorkommnisse sind unverzüglich vom Verantwortlichen der Veranstaltung dem 1. Geschäftsführer der HFBHK zu melden. Dies erfolgt schriftlich über Mail und in cc an dies Vereinsadresse! \n
DTSTAMP:20260419T200955
LOCATION:Freiberg
DTSTART;TZID=Europe/Berlin:20240614T100000
DTEND;TZID=Europe/Berlin:20240614T110000
END:VEVENT
END:VCALENDAR