BEGIN:VCALENDAR
VERSION:2.0
PRODID:-//www.admidio.org//Admidio4.3.17//DE
CALSCALE:GREGORIAN
METHOD:PUBLISH
X-WR-TIMEZONE:Europe/Berlin
BEGIN:VTIMEZONE
TZID:Europe/Berlin
X-LIC-LOCATION:Europe/Berlin
BEGIN:STANDARD
DTSTART:19701025T030000
TZOFFSETFROM:+0200
TZOFFSETTO:+0100
TZNAME:CET
RRULE:FREQ=YEARLY;BYDAY=-1SU;BYMONTH=10
END:STANDARD
BEGIN:DAYLIGHT
DTSTART:19700329T020000
TZOFFSETFROM:+0100
TZOFFSETTO:+0200
TZNAME:CEST
RRULE:FREQ=YEARLY;BYDAY=-1SU;BYMONTH=3
END:DAYLIGHT
END:VTIMEZONE
BEGIN:VEVENT
CREATED:20250107T113853
LAST-MODIFIED:20250503T204207
UID:20250107T113853+3@meldebogen.hfbhk.de
SUMMARY:14. Deutscher Bergmannstag
DESCRIPTION:Fahrt zum 14. Deutschen Bergmannstag nach Sangerhausen\n\n\n	\n		\n			Verantwortlicher: \n			Jürgen Kunze\n		\n		\n			Abfahrt Freiberg:\n			Lessingstraße\n			Uhrzeit der Abfahrt: 07.00 Uhr\n			 \n		\n		\n			Transportmittel: \n			Reisebus\n			Transportfirma:Striegistalreisen\n			 \n		\n		\n			Stellplatz vor Ort: \n			Marktplatz Sangerhausen\n		\n		\n			Beginn der Veranstaltung: \n			11.00 Uhr mit Berggottesdienst\, ab 12.30 Uhr Aufstellung zur Parade\n		\n		\n			Fahnen/Standarte: \n			Fahnenabordnung: Standarte und Bergfahne\n		\n		\n			Kammeröffnung: \n			entfällt\n		\n		\n			\n			Besonderheiten:\n			\n			\n			 \n			\n		\n	\n\n\nAchtung: Unfälle und Vorkommnisse sind unverzüglich dem 1. Geschäftsführer zu melden. Dies erfolgt schriftlich an verein@hfbhk.de\n
DTSTAMP:20260419T153014
LOCATION:Sangerhausen
DTSTART;TZID=Europe/Berlin:20250510T070000
DTEND;TZID=Europe/Berlin:20250510T200000
END:VEVENT
END:VCALENDAR